BEGIN:VCALENDAR
VERSION:2.0
PRODID:-//Rafiki Coalition for Health and Wellness - ECPv6.15.12.2//NONSGML v1.0//EN
CALSCALE:GREGORIAN
METHOD:PUBLISH
X-WR-CALNAME:Rafiki Coalition for Health and Wellness
X-ORIGINAL-URL:https://rafikicoalition.org
X-WR-CALDESC:Events for Rafiki Coalition for Health and Wellness
REFRESH-INTERVAL;VALUE=DURATION:PT1H
X-Robots-Tag:noindex
X-PUBLISHED-TTL:PT1H
BEGIN:VTIMEZONE
TZID:America/Los_Angeles
BEGIN:DAYLIGHT
TZOFFSETFROM:-0800
TZOFFSETTO:-0700
TZNAME:PDT
DTSTART:20250309T100000
END:DAYLIGHT
BEGIN:STANDARD
TZOFFSETFROM:-0700
TZOFFSETTO:-0800
TZNAME:PST
DTSTART:20251102T090000
END:STANDARD
BEGIN:DAYLIGHT
TZOFFSETFROM:-0800
TZOFFSETTO:-0700
TZNAME:PDT
DTSTART:20260308T100000
END:DAYLIGHT
BEGIN:STANDARD
TZOFFSETFROM:-0700
TZOFFSETTO:-0800
TZNAME:PST
DTSTART:20261101T090000
END:STANDARD
BEGIN:DAYLIGHT
TZOFFSETFROM:-0800
TZOFFSETTO:-0700
TZNAME:PDT
DTSTART:20270314T100000
END:DAYLIGHT
BEGIN:STANDARD
TZOFFSETFROM:-0700
TZOFFSETTO:-0800
TZNAME:PST
DTSTART:20271107T090000
END:STANDARD
END:VTIMEZONE
BEGIN:VEVENT
DTSTART;TZID=America/Los_Angeles:20260117T110000
DTEND;TZID=America/Los_Angeles:20260117T140000
DTSTAMP:20260420T060557
CREATED:20260110T003842Z
LAST-MODIFIED:20260110T003842Z
UID:10002131-1768647600-1768658400@rafikicoalition.org
SUMMARY:Apheresis & Blood Donation Mini Health Fair
DESCRIPTION:Apheresis & Blood Donation Mini Health Fair \nWhen: Saturday\, January 17\, 2026\, from 11 AM – 2 PM \nWhere: South Beach Harbor – San Francisco\, CA 94107 \nThis event features guest speakers Ed Faso\, Noah James\, and Nivia Charles\, a Q&A session\, and more! \nCheck-in begins at 10 AM.
URL:https://rafikicoalition.org/event/apheresis-blood-donation-mini-health-fair/
LOCATION:South Beach Harbor\, San Francisco\, CA\, 94107\, United States
CATEGORIES:Featured
ATTACH;FMTTYPE=image/png:https://rafikicoalition.org/wp-content/uploads/2026/01/SCAASF-EVENT.png
END:VEVENT
END:VCALENDAR