BEGIN:VCALENDAR
VERSION:2.0
PRODID:-//Rafiki Coalition for Health and Wellness - ECPv6.15.12.2//NONSGML v1.0//EN
CALSCALE:GREGORIAN
METHOD:PUBLISH
X-ORIGINAL-URL:https://rafikicoalition.org
X-WR-CALDESC:Events for Rafiki Coalition for Health and Wellness
REFRESH-INTERVAL;VALUE=DURATION:PT1H
X-Robots-Tag:noindex
X-PUBLISHED-TTL:PT1H
BEGIN:VTIMEZONE
TZID:America/Los_Angeles
BEGIN:DAYLIGHT
TZOFFSETFROM:-0800
TZOFFSETTO:-0700
TZNAME:PDT
DTSTART:20250309T100000
END:DAYLIGHT
BEGIN:STANDARD
TZOFFSETFROM:-0700
TZOFFSETTO:-0800
TZNAME:PST
DTSTART:20251102T090000
END:STANDARD
BEGIN:DAYLIGHT
TZOFFSETFROM:-0800
TZOFFSETTO:-0700
TZNAME:PDT
DTSTART:20260308T100000
END:DAYLIGHT
BEGIN:STANDARD
TZOFFSETFROM:-0700
TZOFFSETTO:-0800
TZNAME:PST
DTSTART:20261101T090000
END:STANDARD
BEGIN:DAYLIGHT
TZOFFSETFROM:-0800
TZOFFSETTO:-0700
TZNAME:PDT
DTSTART:20270314T100000
END:DAYLIGHT
BEGIN:STANDARD
TZOFFSETFROM:-0700
TZOFFSETTO:-0800
TZNAME:PST
DTSTART:20271107T090000
END:STANDARD
END:VTIMEZONE
BEGIN:VEVENT
DTSTART;TZID=America/Los_Angeles:20260424T150000
DTEND;TZID=America/Los_Angeles:20260424T180000
DTSTAMP:20260422T094027
CREATED:20260404T171448Z
LAST-MODIFIED:20260404T171557Z
UID:10002615-1777042800-1777053600@rafikicoalition.org
SUMMARY:UMOJA Health Access Point (HAP) Resource Fair
DESCRIPTION:Umoja Health Access Point (HAP) Resource Fair\nWhen: Friday\, April 24\, 2026\, from 3 – 6 PM \nWhere: Robert B. Pitts Apartments – 1150 Scott St.\, San Francisco\, CA 94115 \nJoin us for a Health Fest at the Robert B. Pitts Apartments! Here\, you’ll be able to connect with local organizations that offer a range of resources\, including free STI/HIV testing\, health screenings\, sexual health resources\, workforce resources\, housing resources\, and other wellness resources! \nFOR FURTHER INFO PLEASE CONTACT: umojahap@rafikicoalition.org \n 
URL:https://rafikicoalition.org/event/umoja-health-access-point-hap-resource-fair/
LOCATION:Robert B. Pitts Apartments\, 1150 Scott Street\, San Francisco\, CA\, 94115\, United States
CATEGORIES:UMOJA HAP
ORGANIZER;CN="Umoja Health Access Point":MAILTO:kcohen@rafikicoalition.org
END:VEVENT
END:VCALENDAR