BEGIN:VCALENDAR
VERSION:2.0
PRODID:-//Rafiki Coalition for Health and Wellness - ECPv6.15.12.2//NONSGML v1.0//EN
CALSCALE:GREGORIAN
METHOD:PUBLISH
X-WR-CALNAME:Rafiki Coalition for Health and Wellness
X-ORIGINAL-URL:https://rafikicoalition.org
X-WR-CALDESC:Events for Rafiki Coalition for Health and Wellness
REFRESH-INTERVAL;VALUE=DURATION:PT1H
X-Robots-Tag:noindex
X-PUBLISHED-TTL:PT1H
BEGIN:VTIMEZONE
TZID:America/Los_Angeles
BEGIN:DAYLIGHT
TZOFFSETFROM:-0800
TZOFFSETTO:-0700
TZNAME:PDT
DTSTART:20240310T100000
END:DAYLIGHT
BEGIN:STANDARD
TZOFFSETFROM:-0700
TZOFFSETTO:-0800
TZNAME:PST
DTSTART:20241103T090000
END:STANDARD
BEGIN:DAYLIGHT
TZOFFSETFROM:-0800
TZOFFSETTO:-0700
TZNAME:PDT
DTSTART:20250309T100000
END:DAYLIGHT
BEGIN:STANDARD
TZOFFSETFROM:-0700
TZOFFSETTO:-0800
TZNAME:PST
DTSTART:20251102T090000
END:STANDARD
BEGIN:DAYLIGHT
TZOFFSETFROM:-0800
TZOFFSETTO:-0700
TZNAME:PDT
DTSTART:20260308T100000
END:DAYLIGHT
BEGIN:STANDARD
TZOFFSETFROM:-0700
TZOFFSETTO:-0800
TZNAME:PST
DTSTART:20261101T090000
END:STANDARD
END:VTIMEZONE
BEGIN:VEVENT
DTSTART;TZID=America/Los_Angeles:20250904T170000
DTEND;TZID=America/Los_Angeles:20250904T190000
DTSTAMP:20260420T055949
CREATED:20250827T183607Z
LAST-MODIFIED:20250827T183607Z
UID:10001978-1757005200-1757012400@rafikicoalition.org
SUMMARY:Umoja HAP Community Health Fair – Hunters View
DESCRIPTION:Umoja HAP Community Health Fair – Hunters View\nWhen: Thursday\, September 4\, 2025\, from 5-7 PM \nWhere: Hunters View Wellness Center – 901 Fairfax Ave.\, San Francisco\, CA 94124 \nFor more info\, contact umojahap@rafikicoalition.org
URL:https://rafikicoalition.org/event/umoja-hap-community-health-fair-hunters-view/
LOCATION:Hunters View Wellness Center\, 901 Fairfax Avenue\, San Francisco\, CA\, 94124\, United States
CATEGORIES:UMOJA HAP
ORGANIZER;CN="Umoja Health Access Point":MAILTO:kcohen@rafikicoalition.org
END:VEVENT
END:VCALENDAR