BEGIN:VCALENDAR
VERSION:2.0
PRODID:-//Rafiki Coalition for Health and Wellness - ECPv6.15.12.2//NONSGML v1.0//EN
CALSCALE:GREGORIAN
METHOD:PUBLISH
X-WR-CALNAME:Rafiki Coalition for Health and Wellness
X-ORIGINAL-URL:https://rafikicoalition.org
X-WR-CALDESC:Events for Rafiki Coalition for Health and Wellness
REFRESH-INTERVAL;VALUE=DURATION:PT1H
X-Robots-Tag:noindex
X-PUBLISHED-TTL:PT1H
BEGIN:VTIMEZONE
TZID:America/Los_Angeles
BEGIN:DAYLIGHT
TZOFFSETFROM:-0800
TZOFFSETTO:-0700
TZNAME:PDT
DTSTART:20240310T100000
END:DAYLIGHT
BEGIN:STANDARD
TZOFFSETFROM:-0700
TZOFFSETTO:-0800
TZNAME:PST
DTSTART:20241103T090000
END:STANDARD
BEGIN:DAYLIGHT
TZOFFSETFROM:-0800
TZOFFSETTO:-0700
TZNAME:PDT
DTSTART:20250309T100000
END:DAYLIGHT
BEGIN:STANDARD
TZOFFSETFROM:-0700
TZOFFSETTO:-0800
TZNAME:PST
DTSTART:20251102T090000
END:STANDARD
BEGIN:DAYLIGHT
TZOFFSETFROM:-0800
TZOFFSETTO:-0700
TZNAME:PDT
DTSTART:20260308T100000
END:DAYLIGHT
BEGIN:STANDARD
TZOFFSETFROM:-0700
TZOFFSETTO:-0800
TZNAME:PST
DTSTART:20261101T090000
END:STANDARD
END:VTIMEZONE
BEGIN:VEVENT
DTSTART;TZID=America/Los_Angeles:20250726T120000
DTEND;TZID=America/Los_Angeles:20250726T160000
DTSTAMP:20260420T041049
CREATED:20250629T004249Z
LAST-MODIFIED:20250629T004249Z
UID:10001919-1753531200-1753545600@rafikicoalition.org
SUMMARY:Sunnydale/Viz Valley Community Health Fair
DESCRIPTION:Rafiki Coalition will be tabling at the Sunnydale/Viz Valley Community Health Fair on July 26\, providing complimentary alternative medicine (CAM) services\, including chiropractic\, acupuncture\, and massage services.
URL:https://rafikicoalition.org/event/sunnydale-viz-valley-community-health-fair/
LOCATION:Herz Park\, 1701 Visitacion Avenue\, San Francisco\, CA\, 94134\, United States
CATEGORIES:Featured,Programs
ATTACH;FMTTYPE=image/png:https://rafikicoalition.org/wp-content/uploads/2025/06/Sunnydale-Community-Health-Fair.png
END:VEVENT
END:VCALENDAR