BEGIN:VCALENDAR
VERSION:2.0
PRODID:-//Rafiki Coalition for Health and Wellness - ECPv6.15.12.2//NONSGML v1.0//EN
CALSCALE:GREGORIAN
METHOD:PUBLISH
X-WR-CALNAME:Rafiki Coalition for Health and Wellness
X-ORIGINAL-URL:https://rafikicoalition.org
X-WR-CALDESC:Events for Rafiki Coalition for Health and Wellness
REFRESH-INTERVAL;VALUE=DURATION:PT1H
X-Robots-Tag:noindex
X-PUBLISHED-TTL:PT1H
BEGIN:VTIMEZONE
TZID:America/Los_Angeles
BEGIN:DAYLIGHT
TZOFFSETFROM:-0800
TZOFFSETTO:-0700
TZNAME:PDT
DTSTART:20250309T100000
END:DAYLIGHT
BEGIN:STANDARD
TZOFFSETFROM:-0700
TZOFFSETTO:-0800
TZNAME:PST
DTSTART:20251102T090000
END:STANDARD
BEGIN:DAYLIGHT
TZOFFSETFROM:-0800
TZOFFSETTO:-0700
TZNAME:PDT
DTSTART:20260308T100000
END:DAYLIGHT
BEGIN:STANDARD
TZOFFSETFROM:-0700
TZOFFSETTO:-0800
TZNAME:PST
DTSTART:20261101T090000
END:STANDARD
BEGIN:DAYLIGHT
TZOFFSETFROM:-0800
TZOFFSETTO:-0700
TZNAME:PDT
DTSTART:20270314T100000
END:DAYLIGHT
BEGIN:STANDARD
TZOFFSETFROM:-0700
TZOFFSETTO:-0800
TZNAME:PST
DTSTART:20271107T090000
END:STANDARD
END:VTIMEZONE
BEGIN:VEVENT
DTSTART;TZID=America/Los_Angeles:20260227T180000
DTEND;TZID=America/Los_Angeles:20260227T210000
DTSTAMP:20260420T053501
CREATED:20260223T220304Z
LAST-MODIFIED:20260226T032700Z
UID:10002499-1772215200-1772226000@rafikicoalition.org
SUMMARY:GENERATIONS 2026
DESCRIPTION:GENERATIONS: Black LGPTQIA+ History Experiences\nRooted In Legacy\, Rising In Power\nWhen: Friday\, February 27\, 2026\, from 6-9 PM \nWhere: Fluid510 – 1544 Broadway\, Oakland\, CA 94612 \nFor generations\, Black LGBTQIA+ people have stood at the forefront of resistance leading civil rights struggles\, fueling revolutionary movements for Black power\, and demanding liberation for all. We have always been here\, reshaping the world with our courage\, vision\, and unrelenting fight for justice. \nGenerations 2026 honors this unbroken lineage. Rooted in Legacy\, Rising in Power celebrates the revolutionary spirit of our ancestors while amplifying today’s changemakers who carry the torch forward. This annual gathering unites the Bay Area’s Black LGBTQIA+ community to recognize that our power flows through us from those who fought before and will surge through those who come after. \nThroughout the evening\, we celebrate current luminaries\, the activists\, organizers\, artists\, and visionaries standing on the shoulders of giants while blazing new trails. \nTheir work echoes the fierce determination of Black LGBTQIA+ revolutionaries who demanded that freedom mean freedom for all of us. \nThe night culminates in the spectacular Generations Mini Ball\, where participants compete for cash prizes while showcasing radical self-expression and Black queer excellence on the runway. Our joy\, our beauty\, and our unapologetic existence are acts of resistance. The celebration continues at the Generations Afterparty because our community and our power deserve to be honored all night long. \nREGISTER HERE.
URL:https://rafikicoalition.org/event/generations-2026/
LOCATION:Fluid510\, 1544 Broadway\, Oakland\, CA\, 94612\, United States
CATEGORIES:Featured,Programs
ATTACH;FMTTYPE=image/jpeg:https://rafikicoalition.org/wp-content/uploads/2026/02/Generations-Event-Flyer.jpeg
END:VEVENT
END:VCALENDAR